BEGIN:VCALENDAR
VERSION:2.0
PRODID:-//Lotus | Sexual Assault Center | Sexual Abuse Resources | Kentucky - ECPv6.15.20//NONSGML v1.0//EN
CALSCALE:GREGORIAN
METHOD:PUBLISH
X-WR-CALNAME:Lotus | Sexual Assault Center | Sexual Abuse Resources | Kentucky
X-ORIGINAL-URL:https://hopehealgrow.org
X-WR-CALDESC:Events for Lotus | Sexual Assault Center | Sexual Abuse Resources | Kentucky
REFRESH-INTERVAL;VALUE=DURATION:PT1H
X-Robots-Tag:noindex
X-PUBLISHED-TTL:PT1H
BEGIN:VTIMEZONE
TZID:America/Chicago
BEGIN:DAYLIGHT
TZOFFSETFROM:-0600
TZOFFSETTO:-0500
TZNAME:CDT
DTSTART:20250309T080000
END:DAYLIGHT
BEGIN:STANDARD
TZOFFSETFROM:-0500
TZOFFSETTO:-0600
TZNAME:CST
DTSTART:20251102T070000
END:STANDARD
BEGIN:DAYLIGHT
TZOFFSETFROM:-0600
TZOFFSETTO:-0500
TZNAME:CDT
DTSTART:20260308T080000
END:DAYLIGHT
BEGIN:STANDARD
TZOFFSETFROM:-0500
TZOFFSETTO:-0600
TZNAME:CST
DTSTART:20261101T070000
END:STANDARD
BEGIN:DAYLIGHT
TZOFFSETFROM:-0600
TZOFFSETTO:-0500
TZNAME:CDT
DTSTART:20270314T080000
END:DAYLIGHT
BEGIN:STANDARD
TZOFFSETFROM:-0500
TZOFFSETTO:-0600
TZNAME:CST
DTSTART:20271107T070000
END:STANDARD
END:VTIMEZONE
BEGIN:VTIMEZONE
TZID:America/New_York
BEGIN:DAYLIGHT
TZOFFSETFROM:-0500
TZOFFSETTO:-0400
TZNAME:EDT
DTSTART:20250309T070000
END:DAYLIGHT
BEGIN:STANDARD
TZOFFSETFROM:-0400
TZOFFSETTO:-0500
TZNAME:EST
DTSTART:20251102T060000
END:STANDARD
BEGIN:DAYLIGHT
TZOFFSETFROM:-0500
TZOFFSETTO:-0400
TZNAME:EDT
DTSTART:20260308T070000
END:DAYLIGHT
BEGIN:STANDARD
TZOFFSETFROM:-0400
TZOFFSETTO:-0500
TZNAME:EST
DTSTART:20261101T060000
END:STANDARD
BEGIN:DAYLIGHT
TZOFFSETFROM:-0500
TZOFFSETTO:-0400
TZNAME:EDT
DTSTART:20270314T070000
END:DAYLIGHT
BEGIN:STANDARD
TZOFFSETFROM:-0400
TZOFFSETTO:-0500
TZNAME:EST
DTSTART:20271107T060000
END:STANDARD
END:VTIMEZONE
BEGIN:VEVENT
DTSTART;VALUE=DATE:20260323
DTEND;VALUE=DATE:20260417
DTSTAMP:20260425T184027
CREATED:20260324T213757Z
LAST-MODIFIED:20260324T213757Z
UID:24229-1774224000-1776383999@hopehealgrow.org
SUMMARY:Resilience Route Scavenger Hunt
DESCRIPTION:Join us for a community-wide scavenger hunt designed to promote resilience\, awareness\, and connection. Participants will explore local spaces while learning about resources and ways to support prevention efforts.
URL:https://hopehealgrow.org/event/resilience-route-scavenger-hunt/
END:VEVENT
BEGIN:VEVENT
DTSTART;VALUE=DATE:20260401
DTEND;VALUE=DATE:20260402
DTSTAMP:20260425T184027
CREATED:20260324T214154Z
LAST-MODIFIED:20260325T213229Z
UID:24231-1775001600-1775087999@hopehealgrow.org
SUMMARY:Wear Blue Day for Child Abuse Awareness & Prevention
DESCRIPTION:Show your support for Child Abuse Prevention Month by wearing blue. This simple act helps raise awareness and sparks important conversations in our community.
URL:https://hopehealgrow.org/event/wear-blue-day-2026/
END:VEVENT
BEGIN:VEVENT
DTSTART;TZID=America/Chicago:20260401T080000
DTEND;TZID=America/Chicago:20260401T090000
DTSTAMP:20260425T184027
CREATED:20260324T214429Z
LAST-MODIFIED:20260324T214429Z
UID:24233-1775030400-1775034000@hopehealgrow.org
SUMMARY:Pinwheels For Prevention: McCracken County
DESCRIPTION:Help us plant pinwheels as a symbol of hope and prevention. This event brings the community together to recognize the importance of safe\, healthy childhoods.
URL:https://hopehealgrow.org/event/pinwheels-for-prevention-mccracken-county/
LOCATION:McCracken County Courthouse\, 300 Clarence Gains Street\, Paducah\, KY\, 42003\, United States
END:VEVENT
BEGIN:VEVENT
DTSTART;TZID=America/Chicago:20260401T090000
DTEND;TZID=America/Chicago:20260401T100000
DTSTAMP:20260425T184027
CREATED:20260324T220410Z
LAST-MODIFIED:20260324T220410Z
UID:24235-1775034000-1775037600@hopehealgrow.org
SUMMARY:Pinwheel Planting with Purchase District Health Department
DESCRIPTION:Join us in planting pinwheels to raise awareness for child abuse prevention and show support for children and families in our region.
URL:https://hopehealgrow.org/event/pinwheel-planting-with-purchase-district-health-department/
LOCATION:Purchase District Health Department\, 916 Kentucky Ave\, Paducah\, KY\, 42003\, United States
END:VEVENT
END:VCALENDAR