BEGIN:VCALENDAR
VERSION:2.0
PRODID:-//Lotus | Sexual Assault Center | Sexual Abuse Resources | Kentucky - ECPv6.15.20//NONSGML v1.0//EN
CALSCALE:GREGORIAN
METHOD:PUBLISH
X-ORIGINAL-URL:https://hopehealgrow.org
X-WR-CALDESC:Events for Lotus | Sexual Assault Center | Sexual Abuse Resources | Kentucky
REFRESH-INTERVAL;VALUE=DURATION:PT1H
X-Robots-Tag:noindex
X-PUBLISHED-TTL:PT1H
BEGIN:VTIMEZONE
TZID:UTC
BEGIN:STANDARD
TZOFFSETFROM:+0000
TZOFFSETTO:+0000
TZNAME:UTC
DTSTART:20220101T000000
END:STANDARD
END:VTIMEZONE
BEGIN:VEVENT
DTSTART;TZID=UTC:20230713T183000
DTEND;TZID=UTC:20230713T200000
DTSTAMP:20260420T223202
CREATED:20230613T173429Z
LAST-MODIFIED:20230613T174332Z
UID:22830-1689273000-1689278400@hopehealgrow.org
SUMMARY:Trauma Informed Yoga
DESCRIPTION:Join us for a weekly trauma-informed yoga class. This restorative yoga class is a gentle\, safe way for survivors to befriend their bodies\, where the trauma of the past is stored. Classes are led by Leanne Johnson of HealThy Self\, LLC. \nSessions are open to survivors of sexual violence\, caregivers of survivors\, and supportive individuals (such as friends and family members attending to support a survivor). \nClass Details: \n\nAccessible for any experience level\nNo yoga experience needed\nDress comfortably\nAll equipment provided\nHeld at Lotus\, located at\n1605 North Friendship Road in Paducah\n\nTo REGISTER visit:
URL:https://hopehealgrow.org/event/trauma-informed-yoga-3/
LOCATION:Lotus\, 1605 N Friendship Rd\, Paducah\, Kentucky\, 42001
END:VEVENT
BEGIN:VEVENT
DTSTART;TZID=UTC:20230706T183000
DTEND;TZID=UTC:20230706T200000
DTSTAMP:20260420T223202
CREATED:20230613T173413Z
LAST-MODIFIED:20230613T174257Z
UID:22828-1688668200-1688673600@hopehealgrow.org
SUMMARY:Trauma Informed Yoga
DESCRIPTION:Join us for a weekly trauma-informed yoga class. This restorative yoga class is a gentle\, safe way for survivors to befriend their bodies\, where the trauma of the past is stored. Classes are led by Leanne Johnson of HealThy Self\, LLC. \nSessions are open to survivors of sexual violence\, caregivers of survivors\, and supportive individuals (such as friends and family members attending to support a survivor). \nClass Details: \n\nAccessible for any experience level\nNo yoga experience needed\nDress comfortably\nAll equipment provided\nHeld at Lotus\, located at\n1605 North Friendship Road in Paducah\n\nTo REGISTER visit:
URL:https://hopehealgrow.org/event/trauma-informed-yoga-2/
LOCATION:Lotus\, 1605 N Friendship Rd\, Paducah\, Kentucky\, 42001
END:VEVENT
BEGIN:VEVENT
DTSTART;TZID=UTC:20230629T183000
DTEND;TZID=UTC:20230629T200000
DTSTAMP:20260420T223202
CREATED:20230613T011222Z
LAST-MODIFIED:20230613T174240Z
UID:22826-1688063400-1688068800@hopehealgrow.org
SUMMARY:Trauma Informed Yoga
DESCRIPTION:Join us for a weekly trauma-informed yoga class. This restorative yoga class is a gentle\, safe way for survivors to befriend their bodies\, where the trauma of the past is stored. Classes are led by Leanne Johnson of HealThy Self\, LLC. \nSessions are open to survivors of sexual violence\, caregivers of survivors\, and supportive individuals (such as friends and family members attending to support a survivor). \nClass Details: \n\nAccessible for any experience level\nNo yoga experience needed\nDress comfortably\nAll equipment provided\nHeld at Lotus\, located at\n1605 North Friendship Road in Paducah\n\nTo REGISTER visit:
URL:https://hopehealgrow.org/event/trauma-informed-yoga/
LOCATION:Lotus\, 1605 N Friendship Rd\, Paducah\, Kentucky\, 42001
END:VEVENT
BEGIN:VEVENT
DTSTART;TZID=UTC:20230622T183000
DTEND;TZID=UTC:20230622T200000
DTSTAMP:20260420T223202
CREATED:20230613T011123Z
LAST-MODIFIED:20230613T174223Z
UID:22822-1687458600-1687464000@hopehealgrow.org
SUMMARY:Trauma Informed Yoga
DESCRIPTION:Join us for a weekly trauma-informed yoga class. This restorative yoga class is a gentle\, safe way for survivors to befriend their bodies\, where the trauma of the past is stored. Classes are led by Leanne Johnson of HealThy Self\, LLC. \nSessions are open to survivors of sexual violence\, caregivers of survivors\, and supportive individuals (such as friends and family members attending to support a survivor). \nClass Details: \n\nAccessible for any experience level\nNo yoga experience needed\nDress comfortably\nAll equipment provided\nHeld at Lotus\, located at\n1605 North Friendship Road in Paducah\n\nTo REGISTER visit:
URL:https://hopehealgrow.org/event/22822/
LOCATION:Lotus\, 1605 N Friendship Rd\, Paducah\, Kentucky\, 42001
END:VEVENT
END:VCALENDAR